BEGIN:VCALENDAR
VERSION:2.0
PRODID:-//Black Women&#039;s Health Movement - ECPv6.6.4.2//NONSGML v1.0//EN
CALSCALE:GREGORIAN
METHOD:PUBLISH
X-ORIGINAL-URL:https://bwhmovement.org
X-WR-CALDESC:Events for Black Women&#039;s Health Movement
REFRESH-INTERVAL;VALUE=DURATION:PT1H
X-Robots-Tag:noindex
X-PUBLISHED-TTL:PT1H
BEGIN:VTIMEZONE
TZID:UTC
BEGIN:STANDARD
TZOFFSETFROM:+0000
TZOFFSETTO:+0000
TZNAME:UTC
DTSTART:20260101T000000
END:STANDARD
END:VTIMEZONE
BEGIN:VEVENT
DTSTART;TZID=UTC:20260603T133000
DTEND;TZID=UTC:20260603T143000
DTSTAMP:20260423T043722
CREATED:20220210T163419Z
LAST-MODIFIED:20220210T163419Z
UID:3168-1780493400-1780497000@bwhmovement.org
SUMMARY:Power Author Q&A Live with Zarinah
DESCRIPTION:Click the link to join Zarinah LIVE today at 1:30pm EST in our Facebook group: www.facebook.com/groups/becomingpowerauthors  \nZarinah will be answering all of your questions around books\, self-publishing\, writing\, launching\, making culture\, and the like.  \nHere’re some of the questions you all have submitted on Facebook: \n\n“Where do I start!?”\nShould you only write in one genre or multiple genres?\nHow many books do you have to sell to get in the bestsellers list? Are the requirements the same for each list?\n\n\n\n\n\n\nAnd other questions…\n\n\n\n\nWant to tune in? Do you have a question to add?  \nJoin Zarinah LIVE today at 1:30pm EST in our Facebook group:www.facebook.com/groups/becomingpowerauthors
URL:https://bwhmovement.org/event/power-author-qa-live-with-zarinah-2026-06-03/
LOCATION:Online Event
CATEGORIES:Community,Enrichment
ATTACH;FMTTYPE=image/png:https://bwhmovement.org/wp-content/uploads/2022/02/image-3.png
END:VEVENT
BEGIN:VEVENT
DTSTART;TZID=UTC:20260610T133000
DTEND;TZID=UTC:20260610T143000
DTSTAMP:20260423T043722
CREATED:20220210T163419Z
LAST-MODIFIED:20220210T163419Z
UID:3169-1781098200-1781101800@bwhmovement.org
SUMMARY:Power Author Q&A Live with Zarinah
DESCRIPTION:Click the link to join Zarinah LIVE today at 1:30pm EST in our Facebook group: www.facebook.com/groups/becomingpowerauthors  \nZarinah will be answering all of your questions around books\, self-publishing\, writing\, launching\, making culture\, and the like.  \nHere’re some of the questions you all have submitted on Facebook: \n\n“Where do I start!?”\nShould you only write in one genre or multiple genres?\nHow many books do you have to sell to get in the bestsellers list? Are the requirements the same for each list?\n\n\n\n\n\n\nAnd other questions…\n\n\n\n\nWant to tune in? Do you have a question to add?  \nJoin Zarinah LIVE today at 1:30pm EST in our Facebook group:www.facebook.com/groups/becomingpowerauthors
URL:https://bwhmovement.org/event/power-author-qa-live-with-zarinah-2026-06-10/
LOCATION:Online Event
CATEGORIES:Community,Enrichment
ATTACH;FMTTYPE=image/png:https://bwhmovement.org/wp-content/uploads/2022/02/image-3.png
END:VEVENT
BEGIN:VEVENT
DTSTART;TZID=UTC:20260617T133000
DTEND;TZID=UTC:20260617T143000
DTSTAMP:20260423T043722
CREATED:20220210T163419Z
LAST-MODIFIED:20220210T163419Z
UID:3170-1781703000-1781706600@bwhmovement.org
SUMMARY:Power Author Q&A Live with Zarinah
DESCRIPTION:Click the link to join Zarinah LIVE today at 1:30pm EST in our Facebook group: www.facebook.com/groups/becomingpowerauthors  \nZarinah will be answering all of your questions around books\, self-publishing\, writing\, launching\, making culture\, and the like.  \nHere’re some of the questions you all have submitted on Facebook: \n\n“Where do I start!?”\nShould you only write in one genre or multiple genres?\nHow many books do you have to sell to get in the bestsellers list? Are the requirements the same for each list?\n\n\n\n\n\n\nAnd other questions…\n\n\n\n\nWant to tune in? Do you have a question to add?  \nJoin Zarinah LIVE today at 1:30pm EST in our Facebook group:www.facebook.com/groups/becomingpowerauthors
URL:https://bwhmovement.org/event/power-author-qa-live-with-zarinah-2026-06-17/
LOCATION:Online Event
CATEGORIES:Community,Enrichment
ATTACH;FMTTYPE=image/png:https://bwhmovement.org/wp-content/uploads/2022/02/image-3.png
END:VEVENT
BEGIN:VEVENT
DTSTART;TZID=UTC:20260624T133000
DTEND;TZID=UTC:20260624T143000
DTSTAMP:20260423T043722
CREATED:20220210T163419Z
LAST-MODIFIED:20220210T163419Z
UID:3171-1782307800-1782311400@bwhmovement.org
SUMMARY:Power Author Q&A Live with Zarinah
DESCRIPTION:Click the link to join Zarinah LIVE today at 1:30pm EST in our Facebook group: www.facebook.com/groups/becomingpowerauthors  \nZarinah will be answering all of your questions around books\, self-publishing\, writing\, launching\, making culture\, and the like.  \nHere’re some of the questions you all have submitted on Facebook: \n\n“Where do I start!?”\nShould you only write in one genre or multiple genres?\nHow many books do you have to sell to get in the bestsellers list? Are the requirements the same for each list?\n\n\n\n\n\n\nAnd other questions…\n\n\n\n\nWant to tune in? Do you have a question to add?  \nJoin Zarinah LIVE today at 1:30pm EST in our Facebook group:www.facebook.com/groups/becomingpowerauthors
URL:https://bwhmovement.org/event/power-author-qa-live-with-zarinah-2026-06-24/
LOCATION:Online Event
CATEGORIES:Community,Enrichment
ATTACH;FMTTYPE=image/png:https://bwhmovement.org/wp-content/uploads/2022/02/image-3.png
END:VEVENT
BEGIN:VEVENT
DTSTART;TZID=UTC:20260701T133000
DTEND;TZID=UTC:20260701T143000
DTSTAMP:20260423T043722
CREATED:20220210T163419Z
LAST-MODIFIED:20220210T163419Z
UID:3172-1782912600-1782916200@bwhmovement.org
SUMMARY:Power Author Q&A Live with Zarinah
DESCRIPTION:Click the link to join Zarinah LIVE today at 1:30pm EST in our Facebook group: www.facebook.com/groups/becomingpowerauthors  \nZarinah will be answering all of your questions around books\, self-publishing\, writing\, launching\, making culture\, and the like.  \nHere’re some of the questions you all have submitted on Facebook: \n\n“Where do I start!?”\nShould you only write in one genre or multiple genres?\nHow many books do you have to sell to get in the bestsellers list? Are the requirements the same for each list?\n\n\n\n\n\n\nAnd other questions…\n\n\n\n\nWant to tune in? Do you have a question to add?  \nJoin Zarinah LIVE today at 1:30pm EST in our Facebook group:www.facebook.com/groups/becomingpowerauthors
URL:https://bwhmovement.org/event/power-author-qa-live-with-zarinah-2026-07-01/
LOCATION:Online Event
CATEGORIES:Community,Enrichment
ATTACH;FMTTYPE=image/png:https://bwhmovement.org/wp-content/uploads/2022/02/image-3.png
END:VEVENT
BEGIN:VEVENT
DTSTART;TZID=UTC:20260708T133000
DTEND;TZID=UTC:20260708T143000
DTSTAMP:20260423T043722
CREATED:20220210T163419Z
LAST-MODIFIED:20220210T163419Z
UID:3173-1783517400-1783521000@bwhmovement.org
SUMMARY:Power Author Q&A Live with Zarinah
DESCRIPTION:Click the link to join Zarinah LIVE today at 1:30pm EST in our Facebook group: www.facebook.com/groups/becomingpowerauthors  \nZarinah will be answering all of your questions around books\, self-publishing\, writing\, launching\, making culture\, and the like.  \nHere’re some of the questions you all have submitted on Facebook: \n\n“Where do I start!?”\nShould you only write in one genre or multiple genres?\nHow many books do you have to sell to get in the bestsellers list? Are the requirements the same for each list?\n\n\n\n\n\n\nAnd other questions…\n\n\n\n\nWant to tune in? Do you have a question to add?  \nJoin Zarinah LIVE today at 1:30pm EST in our Facebook group:www.facebook.com/groups/becomingpowerauthors
URL:https://bwhmovement.org/event/power-author-qa-live-with-zarinah-2026-07-08/
LOCATION:Online Event
CATEGORIES:Community,Enrichment
ATTACH;FMTTYPE=image/png:https://bwhmovement.org/wp-content/uploads/2022/02/image-3.png
END:VEVENT
BEGIN:VEVENT
DTSTART;TZID=UTC:20260715T133000
DTEND;TZID=UTC:20260715T143000
DTSTAMP:20260423T043722
CREATED:20220210T163419Z
LAST-MODIFIED:20220210T163419Z
UID:3174-1784122200-1784125800@bwhmovement.org
SUMMARY:Power Author Q&A Live with Zarinah
DESCRIPTION:Click the link to join Zarinah LIVE today at 1:30pm EST in our Facebook group: www.facebook.com/groups/becomingpowerauthors  \nZarinah will be answering all of your questions around books\, self-publishing\, writing\, launching\, making culture\, and the like.  \nHere’re some of the questions you all have submitted on Facebook: \n\n“Where do I start!?”\nShould you only write in one genre or multiple genres?\nHow many books do you have to sell to get in the bestsellers list? Are the requirements the same for each list?\n\n\n\n\n\n\nAnd other questions…\n\n\n\n\nWant to tune in? Do you have a question to add?  \nJoin Zarinah LIVE today at 1:30pm EST in our Facebook group:www.facebook.com/groups/becomingpowerauthors
URL:https://bwhmovement.org/event/power-author-qa-live-with-zarinah-2026-07-15/
LOCATION:Online Event
CATEGORIES:Community,Enrichment
ATTACH;FMTTYPE=image/png:https://bwhmovement.org/wp-content/uploads/2022/02/image-3.png
END:VEVENT
BEGIN:VEVENT
DTSTART;TZID=UTC:20260722T133000
DTEND;TZID=UTC:20260722T143000
DTSTAMP:20260423T043722
CREATED:20220210T163419Z
LAST-MODIFIED:20220210T163419Z
UID:3175-1784727000-1784730600@bwhmovement.org
SUMMARY:Power Author Q&A Live with Zarinah
DESCRIPTION:Click the link to join Zarinah LIVE today at 1:30pm EST in our Facebook group: www.facebook.com/groups/becomingpowerauthors  \nZarinah will be answering all of your questions around books\, self-publishing\, writing\, launching\, making culture\, and the like.  \nHere’re some of the questions you all have submitted on Facebook: \n\n“Where do I start!?”\nShould you only write in one genre or multiple genres?\nHow many books do you have to sell to get in the bestsellers list? Are the requirements the same for each list?\n\n\n\n\n\n\nAnd other questions…\n\n\n\n\nWant to tune in? Do you have a question to add?  \nJoin Zarinah LIVE today at 1:30pm EST in our Facebook group:www.facebook.com/groups/becomingpowerauthors
URL:https://bwhmovement.org/event/power-author-qa-live-with-zarinah-2026-07-22/
LOCATION:Online Event
CATEGORIES:Community,Enrichment
ATTACH;FMTTYPE=image/png:https://bwhmovement.org/wp-content/uploads/2022/02/image-3.png
END:VEVENT
BEGIN:VEVENT
DTSTART;TZID=UTC:20260729T133000
DTEND;TZID=UTC:20260729T143000
DTSTAMP:20260423T043722
CREATED:20220210T163419Z
LAST-MODIFIED:20220210T163419Z
UID:3180-1785331800-1785335400@bwhmovement.org
SUMMARY:Power Author Q&A Live with Zarinah
DESCRIPTION:Click the link to join Zarinah LIVE today at 1:30pm EST in our Facebook group: www.facebook.com/groups/becomingpowerauthors  \nZarinah will be answering all of your questions around books\, self-publishing\, writing\, launching\, making culture\, and the like.  \nHere’re some of the questions you all have submitted on Facebook: \n\n“Where do I start!?”\nShould you only write in one genre or multiple genres?\nHow many books do you have to sell to get in the bestsellers list? Are the requirements the same for each list?\n\n\n\n\n\n\nAnd other questions…\n\n\n\n\nWant to tune in? Do you have a question to add?  \nJoin Zarinah LIVE today at 1:30pm EST in our Facebook group:www.facebook.com/groups/becomingpowerauthors
URL:https://bwhmovement.org/event/power-author-qa-live-with-zarinah-2026-07-29/
LOCATION:Online Event
CATEGORIES:Community,Enrichment
ATTACH;FMTTYPE=image/png:https://bwhmovement.org/wp-content/uploads/2022/02/image-3.png
END:VEVENT
BEGIN:VEVENT
DTSTART;TZID=UTC:20260805T133000
DTEND;TZID=UTC:20260805T143000
DTSTAMP:20260423T043722
CREATED:20220210T163419Z
LAST-MODIFIED:20220210T163419Z
UID:3181-1785936600-1785940200@bwhmovement.org
SUMMARY:Power Author Q&A Live with Zarinah
DESCRIPTION:Click the link to join Zarinah LIVE today at 1:30pm EST in our Facebook group: www.facebook.com/groups/becomingpowerauthors  \nZarinah will be answering all of your questions around books\, self-publishing\, writing\, launching\, making culture\, and the like.  \nHere’re some of the questions you all have submitted on Facebook: \n\n“Where do I start!?”\nShould you only write in one genre or multiple genres?\nHow many books do you have to sell to get in the bestsellers list? Are the requirements the same for each list?\n\n\n\n\n\n\nAnd other questions…\n\n\n\n\nWant to tune in? Do you have a question to add?  \nJoin Zarinah LIVE today at 1:30pm EST in our Facebook group:www.facebook.com/groups/becomingpowerauthors
URL:https://bwhmovement.org/event/power-author-qa-live-with-zarinah-2026-08-05/
LOCATION:Online Event
CATEGORIES:Community,Enrichment
ATTACH;FMTTYPE=image/png:https://bwhmovement.org/wp-content/uploads/2022/02/image-3.png
END:VEVENT
BEGIN:VEVENT
DTSTART;TZID=UTC:20260812T133000
DTEND;TZID=UTC:20260812T143000
DTSTAMP:20260423T043722
CREATED:20220210T163419Z
LAST-MODIFIED:20220210T163419Z
UID:3182-1786541400-1786545000@bwhmovement.org
SUMMARY:Power Author Q&A Live with Zarinah
DESCRIPTION:Click the link to join Zarinah LIVE today at 1:30pm EST in our Facebook group: www.facebook.com/groups/becomingpowerauthors  \nZarinah will be answering all of your questions around books\, self-publishing\, writing\, launching\, making culture\, and the like.  \nHere’re some of the questions you all have submitted on Facebook: \n\n“Where do I start!?”\nShould you only write in one genre or multiple genres?\nHow many books do you have to sell to get in the bestsellers list? Are the requirements the same for each list?\n\n\n\n\n\n\nAnd other questions…\n\n\n\n\nWant to tune in? Do you have a question to add?  \nJoin Zarinah LIVE today at 1:30pm EST in our Facebook group:www.facebook.com/groups/becomingpowerauthors
URL:https://bwhmovement.org/event/power-author-qa-live-with-zarinah-2026-08-12/
LOCATION:Online Event
CATEGORIES:Community,Enrichment
ATTACH;FMTTYPE=image/png:https://bwhmovement.org/wp-content/uploads/2022/02/image-3.png
END:VEVENT
BEGIN:VEVENT
DTSTART;TZID=UTC:20260819T133000
DTEND;TZID=UTC:20260819T143000
DTSTAMP:20260423T043722
CREATED:20220210T163419Z
LAST-MODIFIED:20220210T163419Z
UID:3183-1787146200-1787149800@bwhmovement.org
SUMMARY:Power Author Q&A Live with Zarinah
DESCRIPTION:Click the link to join Zarinah LIVE today at 1:30pm EST in our Facebook group: www.facebook.com/groups/becomingpowerauthors  \nZarinah will be answering all of your questions around books\, self-publishing\, writing\, launching\, making culture\, and the like.  \nHere’re some of the questions you all have submitted on Facebook: \n\n“Where do I start!?”\nShould you only write in one genre or multiple genres?\nHow many books do you have to sell to get in the bestsellers list? Are the requirements the same for each list?\n\n\n\n\n\n\nAnd other questions…\n\n\n\n\nWant to tune in? Do you have a question to add?  \nJoin Zarinah LIVE today at 1:30pm EST in our Facebook group:www.facebook.com/groups/becomingpowerauthors
URL:https://bwhmovement.org/event/power-author-qa-live-with-zarinah-2026-08-19/
LOCATION:Online Event
CATEGORIES:Community,Enrichment
ATTACH;FMTTYPE=image/png:https://bwhmovement.org/wp-content/uploads/2022/02/image-3.png
END:VEVENT
BEGIN:VEVENT
DTSTART;TZID=UTC:20260826T133000
DTEND;TZID=UTC:20260826T143000
DTSTAMP:20260423T043722
CREATED:20220210T163419Z
LAST-MODIFIED:20220210T163419Z
UID:3184-1787751000-1787754600@bwhmovement.org
SUMMARY:Power Author Q&A Live with Zarinah
DESCRIPTION:Click the link to join Zarinah LIVE today at 1:30pm EST in our Facebook group: www.facebook.com/groups/becomingpowerauthors  \nZarinah will be answering all of your questions around books\, self-publishing\, writing\, launching\, making culture\, and the like.  \nHere’re some of the questions you all have submitted on Facebook: \n\n“Where do I start!?”\nShould you only write in one genre or multiple genres?\nHow many books do you have to sell to get in the bestsellers list? Are the requirements the same for each list?\n\n\n\n\n\n\nAnd other questions…\n\n\n\n\nWant to tune in? Do you have a question to add?  \nJoin Zarinah LIVE today at 1:30pm EST in our Facebook group:www.facebook.com/groups/becomingpowerauthors
URL:https://bwhmovement.org/event/power-author-qa-live-with-zarinah-2026-08-26/
LOCATION:Online Event
CATEGORIES:Community,Enrichment
ATTACH;FMTTYPE=image/png:https://bwhmovement.org/wp-content/uploads/2022/02/image-3.png
END:VEVENT
BEGIN:VEVENT
DTSTART;TZID=UTC:20260902T133000
DTEND;TZID=UTC:20260902T143000
DTSTAMP:20260423T043722
CREATED:20220210T163419Z
LAST-MODIFIED:20220210T163419Z
UID:3185-1788355800-1788359400@bwhmovement.org
SUMMARY:Power Author Q&A Live with Zarinah
DESCRIPTION:Click the link to join Zarinah LIVE today at 1:30pm EST in our Facebook group: www.facebook.com/groups/becomingpowerauthors  \nZarinah will be answering all of your questions around books\, self-publishing\, writing\, launching\, making culture\, and the like.  \nHere’re some of the questions you all have submitted on Facebook: \n\n“Where do I start!?”\nShould you only write in one genre or multiple genres?\nHow many books do you have to sell to get in the bestsellers list? Are the requirements the same for each list?\n\n\n\n\n\n\nAnd other questions…\n\n\n\n\nWant to tune in? Do you have a question to add?  \nJoin Zarinah LIVE today at 1:30pm EST in our Facebook group:www.facebook.com/groups/becomingpowerauthors
URL:https://bwhmovement.org/event/power-author-qa-live-with-zarinah-2026-09-02/
LOCATION:Online Event
CATEGORIES:Community,Enrichment
ATTACH;FMTTYPE=image/png:https://bwhmovement.org/wp-content/uploads/2022/02/image-3.png
END:VEVENT
BEGIN:VEVENT
DTSTART;TZID=UTC:20260909T133000
DTEND;TZID=UTC:20260909T143000
DTSTAMP:20260423T043722
CREATED:20220210T163419Z
LAST-MODIFIED:20220210T163419Z
UID:3186-1788960600-1788964200@bwhmovement.org
SUMMARY:Power Author Q&A Live with Zarinah
DESCRIPTION:Click the link to join Zarinah LIVE today at 1:30pm EST in our Facebook group: www.facebook.com/groups/becomingpowerauthors  \nZarinah will be answering all of your questions around books\, self-publishing\, writing\, launching\, making culture\, and the like.  \nHere’re some of the questions you all have submitted on Facebook: \n\n“Where do I start!?”\nShould you only write in one genre or multiple genres?\nHow many books do you have to sell to get in the bestsellers list? Are the requirements the same for each list?\n\n\n\n\n\n\nAnd other questions…\n\n\n\n\nWant to tune in? Do you have a question to add?  \nJoin Zarinah LIVE today at 1:30pm EST in our Facebook group:www.facebook.com/groups/becomingpowerauthors
URL:https://bwhmovement.org/event/power-author-qa-live-with-zarinah-2026-09-09/
LOCATION:Online Event
CATEGORIES:Community,Enrichment
ATTACH;FMTTYPE=image/png:https://bwhmovement.org/wp-content/uploads/2022/02/image-3.png
END:VEVENT
BEGIN:VEVENT
DTSTART;TZID=UTC:20260916T133000
DTEND;TZID=UTC:20260916T143000
DTSTAMP:20260423T043722
CREATED:20220210T163419Z
LAST-MODIFIED:20220210T163419Z
UID:3187-1789565400-1789569000@bwhmovement.org
SUMMARY:Power Author Q&A Live with Zarinah
DESCRIPTION:Click the link to join Zarinah LIVE today at 1:30pm EST in our Facebook group: www.facebook.com/groups/becomingpowerauthors  \nZarinah will be answering all of your questions around books\, self-publishing\, writing\, launching\, making culture\, and the like.  \nHere’re some of the questions you all have submitted on Facebook: \n\n“Where do I start!?”\nShould you only write in one genre or multiple genres?\nHow many books do you have to sell to get in the bestsellers list? Are the requirements the same for each list?\n\n\n\n\n\n\nAnd other questions…\n\n\n\n\nWant to tune in? Do you have a question to add?  \nJoin Zarinah LIVE today at 1:30pm EST in our Facebook group:www.facebook.com/groups/becomingpowerauthors
URL:https://bwhmovement.org/event/power-author-qa-live-with-zarinah-2026-09-16/
LOCATION:Online Event
CATEGORIES:Community,Enrichment
ATTACH;FMTTYPE=image/png:https://bwhmovement.org/wp-content/uploads/2022/02/image-3.png
END:VEVENT
BEGIN:VEVENT
DTSTART;TZID=UTC:20260923T133000
DTEND;TZID=UTC:20260923T143000
DTSTAMP:20260423T043722
CREATED:20220210T163419Z
LAST-MODIFIED:20220210T163419Z
UID:3193-1790170200-1790173800@bwhmovement.org
SUMMARY:Power Author Q&A Live with Zarinah
DESCRIPTION:Click the link to join Zarinah LIVE today at 1:30pm EST in our Facebook group: www.facebook.com/groups/becomingpowerauthors  \nZarinah will be answering all of your questions around books\, self-publishing\, writing\, launching\, making culture\, and the like.  \nHere’re some of the questions you all have submitted on Facebook: \n\n“Where do I start!?”\nShould you only write in one genre or multiple genres?\nHow many books do you have to sell to get in the bestsellers list? Are the requirements the same for each list?\n\n\n\n\n\n\nAnd other questions…\n\n\n\n\nWant to tune in? Do you have a question to add?  \nJoin Zarinah LIVE today at 1:30pm EST in our Facebook group:www.facebook.com/groups/becomingpowerauthors
URL:https://bwhmovement.org/event/power-author-qa-live-with-zarinah-2026-09-23/
LOCATION:Online Event
CATEGORIES:Community,Enrichment
ATTACH;FMTTYPE=image/png:https://bwhmovement.org/wp-content/uploads/2022/02/image-3.png
END:VEVENT
END:VCALENDAR