BEGIN:VCALENDAR
VERSION:2.0
PRODID:-//Black Women&#039;s Health Movement - ECPv6.6.4.2//NONSGML v1.0//EN
CALSCALE:GREGORIAN
METHOD:PUBLISH
X-WR-CALNAME:Black Women&#039;s Health Movement
X-ORIGINAL-URL:https://bwhmovement.org
X-WR-CALDESC:Events for Black Women&#039;s Health Movement
REFRESH-INTERVAL;VALUE=DURATION:PT1H
X-Robots-Tag:noindex
X-PUBLISHED-TTL:PT1H
BEGIN:VTIMEZONE
TZID:UTC
BEGIN:STANDARD
TZOFFSETFROM:+0000
TZOFFSETTO:+0000
TZNAME:UTC
DTSTART:20260101T000000
END:STANDARD
END:VTIMEZONE
BEGIN:VEVENT
DTSTART;TZID=UTC:20260314T100000
DTEND;TZID=UTC:20260314T130000
DTSTAMP:20260422T202432
CREATED:20260305T003823Z
LAST-MODIFIED:20260305T004038Z
UID:3224-1773482400-1773493200@bwhmovement.org
SUMMARY:Just For Us: A 4 Pillar Passport Experience
DESCRIPTION:JOIN THE BLACK WOMEN’S HEALTH MOVEMENT FOR: \n\nMental wellness\nPhysical movement\nNutrition\nEconomic empowerment\n\nPLUS: \n\nFour-Pillar Passport\nGuided sessions\nRaffles\nSisterhood\nBrunch\n\nATTIRE: Comfortable Attire Recommended (Light movement session included) \n\nWHEN: Doors open at 9:30AM; Event is from 10AM-1PM \n\nPRESENTED BY: The Christ Hospital\, American Heart Association and the Center for Closing the Health Gap \nCLICK HERE TO REGISTER \n\n\n\n 
URL:https://bwhmovement.org/event/just-for-us-passport-experience/
LOCATION:Mortar Academy\, 2453 Gilbert Ave.\, Cincinnati\, OH\, 45206\, United States
CATEGORIES:Community
ATTACH;FMTTYPE=image/jpeg:https://bwhmovement.org/wp-content/uploads/2026/03/HG-BWHM-Just-For-Us-Pillar_2026.jpg
END:VEVENT
END:VCALENDAR